BEGIN:VCALENDAR
VERSION:2.0
PRODID:-//ChamberMaster//Event Calendar 2.0//EN
METHOD:PUBLISH
X-PUBLISHED-TTL:P3D
REFRESH-INTERVAL:P3D
CALSCALE:GREGORIAN
BEGIN:VEVENT
DTSTART:20260521T223000Z
DTEND:20260522T000000Z
X-MICROSOFT-CDO-ALLDAYEVENT:FALSE
SUMMARY:2026 Mix and Mingle - Lovelace & Company
DESCRIPTION:Mix & Mingle - Lovelace & Company \n\nPlease join us for an evening of socializing and networking! \n\nLight snacks and drinks provided. \n\nOur Wheel sponsor for the evening is Traci Cherry with Guild Mortgage.
X-ALT-DESC;FMTTYPE=text/html:Mix &amp\; Mingle - Lovelace &amp\; Company&nbsp\;<br />\nPlease join us for an evening of socializing and networking!&nbsp\;<br />\nLight snacks and drinks provided.&nbsp\;<br />\nOur Wheel sponsor for the evening is Traci Cherry with Guild Mortgage.&nbsp\;
LOCATION:421 W. FM 120 Pottsboro\, TX 75076
UID:e.297.14620
SEQUENCE:3
DTSTAMP:20260424T181210Z
URL:http://members.pottsborochamber.com/events/details/2026-mix-and-mingle-lovelace-company-14620
END:VEVENT

END:VCALENDAR
